BEGIN:VCALENDAR
VERSION:2.0
PRODID:-//wp-events-plugin.com//7.2.3.1//EN
TZID:Europe/Berlin
X-WR-TIMEZONE:Europe/Berlin
BEGIN:VEVENT
UID:16@heilpraktikerin-beate-fuoss.de
DTSTART;TZID=Europe/Berlin;VALUE=DATE:20200815
DTEND;TZID=Europe/Berlin;VALUE=DATE:20200817
DTSTAMP:20200605T161652Z
URL:https://heilpraktikerin-beate-fuoss.de/veranstaltungen/systemische-auf
 stellung-in-der-kleingruppe-15-16-august-2020/
SUMMARY:Systemische Aufstellung in der Kleingruppe 15.+16.August 2020 ENTF
 ÄLLT
DESCRIPTION:… sich selbst (wieder) finden\n… ganzheitlich und wertfrei\
 n\nDu willst Dich auf den Weg machen zu Dir selbst: die Verbindung wiederf
 inden zu dem\, was Dir fehlt und Dich trennen können von dem\, was nicht 
 dazu gehört. Das geschieht gemeinsam in einem geschützten Rahmen mit ein
 er kleinen Gruppe (10-15 Teilnehmer). Wir entdecken bei gemeinsamen Aufste
 llungen wertfrei und ganzheitlich\, woran wir gebunden sind\, die dazugeh
 örigen (verschütteten) Gefühle und unsere Handlungsoptionen.\n\nSA 9:00
 -17:00 + SO 9:00-14:00 Uhr\n\nMuss leider wegen Corona entfallen\n\n&nbsp\
 ;\n\nAblauf einer systemischen Aufstellung:\n\nJeder\, der etwas klären m
 öchte\, bekommt an diesem Wochenende die Möglichkeit\, dies im Rahmen ei
 ner persönlichen Aufstellung zu tun. Bei dieser werden Stellvertreter fü
 r das eigene Selbst und die zum Thema gehörigen Personen bzw. Befindlichk
 eiten gewählt\, die dann im Raum nach eigener Empfindung aufgestellt werd
 en. Damit wird das innere Bild sichtbar gemacht.\n\nKosten:\n\n75 EUR für
  Teilnehmer ohne eigene Aufstellung\; 190  EUR für Teilnehmer mit eigene
 r Aufstellung\, zuzüglich Mittagessen und Pausengetränke ca.20  EUR. Ü
 bernachtung auf Anfrage möglich.\n\nAnmeldung und Bedingungen: \n\nBitte
  frühzeitig anmelden\, da die Teilnehmerzahl begrenzt ist. Nach der onlin
 e-Anmeldung erhalten Sie eine Rechnung mit der Bitte um Begleichung der Se
 minargebühr. Nach Begleichung der Rechnung ist Ihre Anmeldung verbindlich
  und der Platz reserviert. Sie erhalten dann eine  Zahlungsbestätigung m
 it weiteren Informationen zu Veranstaltungort\, Anfahrt\, etc..\n\nDie Sem
 inargebühren werden mit Rechnungsstellung fällig. Bei einem Rücktritt I
 hrerseits bis 14 Tage vor Beginn des Wochenendes / Seminars wird die volle
  Seminargebühr zurückerstattet. Bei einem Rücktritt Ihrerseits weniger 
 als 14 Tage vor Beginn des Wochenendes / Seminares nur dann\, wenn ein Ers
 atzteilnehmer gestellt wird oder nachrückt. Der Veranstalter behält sich
  vor\, ein Seminar abzusagen\, wenn die erforderliche Mindestteilnehmerzah
 l nicht erreicht wird. Ein Anspruch auf Schadenersatz entsteht dadurch nic
 ht.\n\nDiese Anmeldebedingungen und Verschwiegenheitspflicht zum Schutz de
 r Teilnehmer erkenne ich an.\n\nEigenverantwortung:\n\nFür meine Erfahrun
 gen und Aktivitäten während dieser Gruppenteilnahme trage ich die Verant
 wortung selbst. Ich kann über die Tiefe des Mich-Einlassens und Selbsterf
 ahrungsprozesse selbst entscheiden. Falls ich in psychotherapeutischer Beh
 andlung bin\, teile ich dies vorab mit. Ich verpflichte mich\, psychische 
 Vorerkrankungen mitzuteilen.\n\nEine Teilnahme an diesem Wochenende bzw. a
 n einem Seminar ist kein Ersatz für ärztliche oder medizinische Behandlu
 ng
ATTACH;FMTTYPE=image/jpeg:https://heilpraktikerin-beate-fuoss.de/wp-conten
 t/uploads/2017/08/IMG_20161205_095852.jpg
LOCATION:Mission EineWelt Neuendettelsau\, Hauptstraße 2\, Neuendettelsau\
 , 91564\, Deutschland
GEO:49.287317;10.787398
X-APPLE-STRUCTURED-LOCATION;VALUE=URI;X-ADDRESS=Hauptstraße 2\, Neuendette
 lsau\, 91564\, Deutschland;X-APPLE-RADIUS=100;X-TITLE=Mission EineWelt Neu
 endettelsau:geo:49.287317,10.787398
END:VEVENT
BEGIN:VTIMEZONE
TZID:Europe/Berlin
X-LIC-LOCATION:Europe/Berlin
BEGIN:DAYLIGHT
DTSTART:20200329T030000
TZOFFSETFROM:+0100
TZOFFSETTO:+0200
TZNAME:CEST
END:DAYLIGHT
END:VTIMEZONE
END:VCALENDAR